BEGIN:VCALENDAR
VERSION:2.0
PRODID:-//Kings Park - ECPv6.15.16//NONSGML v1.0//EN
CALSCALE:GREGORIAN
METHOD:PUBLISH
X-WR-CALNAME:Kings Park
X-ORIGINAL-URL:https://kings-park.org
X-WR-CALDESC:Events for Kings Park
REFRESH-INTERVAL;VALUE=DURATION:PT1H
X-Robots-Tag:noindex
X-PUBLISHED-TTL:PT1H
BEGIN:VTIMEZONE
TZID:America/New_York
BEGIN:DAYLIGHT
TZOFFSETFROM:-0500
TZOFFSETTO:-0400
TZNAME:EDT
DTSTART:20240310T070000
END:DAYLIGHT
BEGIN:STANDARD
TZOFFSETFROM:-0400
TZOFFSETTO:-0500
TZNAME:EST
DTSTART:20241103T060000
END:STANDARD
BEGIN:DAYLIGHT
TZOFFSETFROM:-0500
TZOFFSETTO:-0400
TZNAME:EDT
DTSTART:20250309T070000
END:DAYLIGHT
BEGIN:STANDARD
TZOFFSETFROM:-0400
TZOFFSETTO:-0500
TZNAME:EST
DTSTART:20251102T060000
END:STANDARD
BEGIN:DAYLIGHT
TZOFFSETFROM:-0500
TZOFFSETTO:-0400
TZNAME:EDT
DTSTART:20260308T070000
END:DAYLIGHT
BEGIN:STANDARD
TZOFFSETFROM:-0400
TZOFFSETTO:-0500
TZNAME:EST
DTSTART:20261101T060000
END:STANDARD
END:VTIMEZONE
BEGIN:VEVENT
DTSTART;TZID=America/New_York:20251205T183000
DTEND;TZID=America/New_York:20251205T200000
DTSTAMP:20260422T175532
CREATED:20251119T021643Z
LAST-MODIFIED:20251119T021643Z
UID:3368-1764959400-1764964800@kings-park.org
SUMMARY:KPCA Holiday Party
DESCRIPTION:We hope all current KPCA members will join us for our annual KPCA Children’s Holiday Party.\n\nFeaturing the Kings Park Band\, children’s crafts\, a visit from the man in red & musical cupcakes!\n\n\n\nAs always\, we would appreciate cupcake donations for the party. You may either bring them with you to the party\, drop them off between 6-6:30PM or we can arrange a pick up.\nSee you soon!
URL:https://kings-park.org/event/kpca-holiday-party/
LOCATION:Kings Park Elementary
END:VEVENT
END:VCALENDAR