BEGIN:VCALENDAR
VERSION:2.0
PRODID:-//Kings Park - ECPv6.15.16//NONSGML v1.0//EN
CALSCALE:GREGORIAN
METHOD:PUBLISH
X-ORIGINAL-URL:https://kings-park.org
X-WR-CALDESC:Events for Kings Park
REFRESH-INTERVAL;VALUE=DURATION:PT1H
X-Robots-Tag:noindex
X-PUBLISHED-TTL:PT1H
BEGIN:VTIMEZONE
TZID:America/New_York
BEGIN:DAYLIGHT
TZOFFSETFROM:-0500
TZOFFSETTO:-0400
TZNAME:EDT
DTSTART:20220313T070000
END:DAYLIGHT
BEGIN:STANDARD
TZOFFSETFROM:-0400
TZOFFSETTO:-0500
TZNAME:EST
DTSTART:20221106T060000
END:STANDARD
BEGIN:DAYLIGHT
TZOFFSETFROM:-0500
TZOFFSETTO:-0400
TZNAME:EDT
DTSTART:20230312T070000
END:DAYLIGHT
BEGIN:STANDARD
TZOFFSETFROM:-0400
TZOFFSETTO:-0500
TZNAME:EST
DTSTART:20231105T060000
END:STANDARD
BEGIN:DAYLIGHT
TZOFFSETFROM:-0500
TZOFFSETTO:-0400
TZNAME:EDT
DTSTART:20240310T070000
END:DAYLIGHT
BEGIN:STANDARD
TZOFFSETFROM:-0400
TZOFFSETTO:-0500
TZNAME:EST
DTSTART:20241103T060000
END:STANDARD
END:VTIMEZONE
BEGIN:VEVENT
DTSTART;TZID=America/New_York:20230801T170000
DTEND;TZID=America/New_York:20230801T200000
DTSTAMP:20260424T121030
CREATED:20230421T025946Z
LAST-MODIFIED:20230517T031315Z
UID:1628-1690909200-1690920000@kings-park.org
SUMMARY:National Night Out - Kings Park Neighborhood-wide Event
DESCRIPTION:If you are interested in volunteering for this event or want to be part of the planning committee please contact Eric DeTurk at eric.deturk@gmail.com.  We hope to see you there!
URL:https://kings-park.org/event/national-night-out-kings-park-neighborhood-wide-event/
LOCATION:Kings Park Park\, 8717 Trafalgar Ct\, Springfield\, VA\, 22151\, United States
END:VEVENT
END:VCALENDAR